BEGIN:VCALENDAR
VERSION:2.0
PRODID:-//Empowered Dissolution - ECPv6.15.20//NONSGML v1.0//EN
CALSCALE:GREGORIAN
METHOD:PUBLISH
X-WR-CALNAME:Empowered Dissolution
X-ORIGINAL-URL:https://empowereddissolution.com
X-WR-CALDESC:Events for Empowered Dissolution
REFRESH-INTERVAL;VALUE=DURATION:PT1H
X-Robots-Tag:noindex
X-PUBLISHED-TTL:PT1H
BEGIN:VTIMEZONE
TZID:America/New_York
BEGIN:DAYLIGHT
TZOFFSETFROM:-0500
TZOFFSETTO:-0400
TZNAME:EDT
DTSTART:20250309T070000
END:DAYLIGHT
BEGIN:STANDARD
TZOFFSETFROM:-0400
TZOFFSETTO:-0500
TZNAME:EST
DTSTART:20251102T060000
END:STANDARD
BEGIN:DAYLIGHT
TZOFFSETFROM:-0500
TZOFFSETTO:-0400
TZNAME:EDT
DTSTART:20260308T070000
END:DAYLIGHT
BEGIN:STANDARD
TZOFFSETFROM:-0400
TZOFFSETTO:-0500
TZNAME:EST
DTSTART:20261101T060000
END:STANDARD
BEGIN:DAYLIGHT
TZOFFSETFROM:-0500
TZOFFSETTO:-0400
TZNAME:EDT
DTSTART:20270314T070000
END:DAYLIGHT
BEGIN:STANDARD
TZOFFSETFROM:-0400
TZOFFSETTO:-0500
TZNAME:EST
DTSTART:20271107T060000
END:STANDARD
END:VTIMEZONE
BEGIN:VEVENT
DTSTART;TZID=America/New_York:20260605T173000
DTEND;TZID=America/New_York:20260605T210000
DTSTAMP:20260424T120544
CREATED:20260424T055327Z
LAST-MODIFIED:20260424T071054Z
UID:700-1780680600-1780693200@empowereddissolution.com
SUMMARY:I-Cubs Client Appreciation Night 2026
DESCRIPTION:Please Join Us: \nFor an I-Cubs game at Principal Park \nFriday June 5th\, 2026 \nParking lot tailgate @ 5:30 – Jethro’s BBQ and cold beverages provided!\nGame starts @ 7:00\nFireworks following the game! \n  \n\nPlease be sure to register each person in your party as we have a limited number of tickets. (When registering from a mobile device\, please be patient\, as it seems to take a minute to load.)\nChildren ages 3 and under do not require a ticket as long as they do not take a seat in the stadium.\nClear bag policy- Principal Park is now only accepting clear bags that are up to 12″ by 12″ and small clutches/wallets up to 4.5″x 6.5″\nRemember to bring lawn chairs or a blanket for the tailgate portion of the evening.\n\n \n  \nParking lot 2 is where our tailgate will be located. It has entrances on MLK or SW 2nd. Parking is first come\, first serve at $13/per vehicle.  \nWe hope to see you there!
URL:https://empowereddissolution.com/event/i-cubs-client-appreciation-night-2026/
LOCATION:Principal Park\, 1 Line Dr.\, Des Moines\, IA\, 50309\, United States
ATTACH;FMTTYPE=image/png:https://empowereddissolution.com/wp-content/uploads/2025/02/Orange-and-Green-Illustrative-International-Womens-Day-Facebook-Post.png
ORGANIZER;CN="Philip Lockwood":MAILTO:plockwood@parklandre.com
END:VEVENT
END:VCALENDAR